Workbook

Sheet Plan Acción 2025 TRIM2
B1: FORMULACIÓN DEL PLAN DE ACCIÓN | R1: PLANEACIÓN ESTRATÉGICA
R3: PES-FT-001
R4: Versión | S4: Página No.
R5: 7 | S5: 1 de 1
A6: DEPENDENCIA: | C6: DEFENSA CIVIL COLOMBIANA
A7: FECHA DE FORMULACIÓN: | C7: 45658
A8: FECHA DE EVALUACIÓN: | C8: A corte Septiembre 30 de 2025
A10: METAS | B10: RESPONSABLE | C10: ACTIVIDADES PROGRAMADAS POR CADA META | D10: RESPONSABLE | E10: PRODUCTO DE CADA ACTIVIDAD | F10: PLAZO DE CADA ACTIVIDAD | H10: PONDERACIÓN DE CADA ACTIVIDAD | I10: AVANCE DE LAS ACTIVIDADES | J10: AVANCE DE LAS ACTIVIDADES | K10: AVANCE DE LAS ACTIVIDADES | L10: AVANCE DE LAS ACTIVIDADES | M10: AVANCE PONDERADO | N10: % CUMPLIMIENTO | O10: PONDERACIÓN | P10: AVANCE PONDERADO | Q10: CUMPLIMIENTO | R10: RECURSOS $ NECESARIOS (millones de pesos) | S10: INDICADOR DE PRODUCTO
B11: DE CADA META | D11: DE CADA ACTIVIDAD | F11: FECHA INICIAL | G11: FECHA FINAL | I11: % | J11: % | K11: % | L11: % | M11: ACTIVIDAD | N11: ACTIVIDADES | O11: DE LAS METAS | P11: META | Q11: DE LA META | R11: PARA EJECUTAR LA META
A12: • Debe ser medible y necesariamente tener asociado un producto. | B12: Registre el cargo del Líder del proceso, debe ser un solo responsable. | C12: Las actividades de una meta son pasos secuenciales que se desarrollan hasta cumplir la meta propuesta, deben ser observables mediante documentos tangibles. MINIMO DEBE HABER DOS ACTIVIDADES POR META, MINIMO DEBE HABER UNA ACTIVIDAD PROGRAMADA EN EL PRIMER SEMESTRE | D12: Cada actividad debe tener un responsable; puede ser el mismo responsable de la meta o una de las personas del equipo de trabajo que desarrollarán las actividades propuestas. | E12: Registre el Producto resultante de la actividad | F12: Registre la fecha de inicio de la actividad | G12: Registre la fecha final de la actividad | H12: Corresponde al peso porcentual de cada actividad dentro de la meta. En total debe sumar 100% por cada Meta | R12: Es la cuantificación de los recursos que se invertirán para alcanzar la meta. Se describe con que recursos se desarrollará la meta cuantificando en $ la mano de obra y los bienes o servicios requeridos para el logro de la meta | S12: ESTE INDICADOR MIDE EL CUMPLIMIENTO DE LA META
A18: OBJETIVO ESTRATÉGICO 1 | E18: Incrementar la favorabilidad de la Defensa Civil Colombiana frente a los diferentes grupos de valor
A19: METAS | B19: RESPONSABLE | C19: ACTIVIDADES PROGRAMADAS POR CADA META | D19: RESPONSABLE | E19: PRODUCTO DE CADA ACTIVIDAD | F19: PLAZO DE CADA ACTIVIDAD | H19: PONDERACIÓN DE CADA ACTIVIDAD | I19: AVANCE DE LAS ACTIVIDADES I TRIM 2025 | J19: AVANCE DE LAS ACTIVIDADES II TRIM 2025 | K19: AVANCE DE LAS ACTIVIDADES III TRIM 2025 | L19: AVANCE DE LAS ACTIVIDADES IV TRIM 2025 | M19: AVANCE PONDERADO | N19: % CUMPLIMIENTO | O19: PONDERACIÓN | P19: AVANCE PONDERADO | Q19: CUMPLIMIENTO | R19: RECURSOS $ NECESARIOS (millones de pesos) | S19: INDICADOR DE CUMPLIMIENTO
B20: DE CADA META | D20: DE CADA ACTIVIDAD | F20: FECHA INICIAL | G20: FECHA FINAL | I20: Fecha Revisión: 31/03/2025 | J20: Fecha Revisión: 30-06-2025 | K20: Fecha Revisión: 30-09-2025 | L20: Fecha Revisión: 31/12-01-2025 | M20: ACTIVIDAD | N20: ATIVIDADES | O20: DE LAS METAS | P20: META | Q20: DE LA META | R20: PARA EJECUTAR LA META
A21: Incrementar en 2 puntos porcentuales la favorabilidad de la Defensa Civil Colombiana ante los diferentes grupos de valor | B21: Funcionario Área de Comunicaciones Externa | C21: Desarrollar e implementar una Directiva con los lineamientos para visibilizar y posicionar a la Entidad en los medios de comunicación y en el territorio. | D21: Yeimy Hernández | E21: 1. Directiva de comunicación del riesgo de desastres e información pública 2. Informes semestrales de seguimiento de cumplimiento de las actividades definidas en la Directiva | F21: 45658 | G21: 46022 | H21: 0.5 | I21: 0.25 | J21: 0.25 | K21: 0.25 | L21: 0 | M21: =SUM(I21:L21)*H21 -> 0.375 | N21: 1 | O21: 1 | P21: =Q21 -> 0.625 | Q21: =(M22+M21)*O21 -> 0.625 | R21: 676 | S21: Resultado encuesta de favorabilidad en T+1 - Resultado encuesta de favorabilidad en T
C22: Realizar una encuesta de favorabilidad ante los diferentes grupos de valor (Ciudadanía, Voluntariado, Funcionarios) | D22: Yeimy Hernández | E22: Resultados y análisis de encuesta de favorabilidad ante los diferentes grupos de valor (Ciudadanía, Voluntariado, Funcionarios) | F22: 45839 | G22: 46021 | H22: 0.5 | I22: 0 | J22: 0.5 | K22: 0 | L22: 0 | M22: =SUM(I22:L22)*H22 -> 0.25 | N22: 1
A23: CUMPLIMIENTO DEL OBJETIVO | P23: =P21 -> 0.625
A25: OBJETIVO ESTRATÉGICO 2 | E25: Desarrollar programas de educación de la entidad con enfoque diferencial, territorial e innovador
A26: METAS | B26: RESPONSABLE | C26: ACTIVIDADES PROGRAMADAS POR CADA META | D26: RESPONSABLE | E26: PRODUCTO DE CADA ACTIVIDAD | F26: PLAZO DE CADA ACTIVIDAD | H26: PONDERACIÓN DE CADA ACTIVIDAD | I26: AVANCE DE LAS ACTIVIDADES I TRIM 2025 | J26: AVANCE DE LAS ACTIVIDADES II TRIM 2025 | K26: AVANCE DE LAS ACTIVIDADES III TRIM 2025 | L26: AVANCE DE LAS ACTIVIDADES IV TRIM 2025 | M26: AVANCE PONDERADO | N26: % CUMPLIMIENTO | O26: PONDERACIÓN | P26: AVANCE PONDERADO | Q26: CUMPLIMIENTO | R26: RECURSOS $ NECESARIOS (millones de pesos) | S26: INDICADOR DE CUMPLIMIENTO
B27: DE CADA META | D27: DE CADA ACTIVIDAD | F27: FECHA INICIAL | G27: FECHA FINAL | I27: Fecha Revisión: 31/03/2025 | J27: Fecha Revisión: 30-06-2025 | K27: Fecha Revisión: 30-09-2025 | L27: Fecha Revisión: 31/12-01-2025 | M27: ACTIVIDAD | N27: ATIVIDADES | O27: DE LAS METAS | P27: META | Q27: DE LA META | R27: PARA EJECUTAR LA META
A28: 1. Revisar y actualizar el 20% de los cursos de la entidad, con un enfoque operativo, diferencial, territorial e innovador de acuerdo a sus necesidades | B28: Subdirector de Capacitación y Entrenamiento | C28: Realizar un análisis de las necesidades operativas de capacitación de la entidad en territorio. | D28: Karla Mayorga | E28: Informe Integral de Actualización de Cursos | F28: 45658 | G28: 45838 | H28: 0.5 | I28: 0.5 | J28: 0.5 | K28: 0 | M28: =SUM(I28:L28)*H28 -> 0.5 | N28: 1 | O28: 0.14 | P28: =SUM(Q28:Q36) -> 0.7175 | Q28: =(M29+M28)*O28 -> 0.14 | R28: 10000000 | S28: N° de cursos con enfoque diferencial / Total de Cursos a Actualizar
C29: Revisar los cursos de la entidad y elaborar la directiva académica 2025 | H29: 0.5 | I29: 0.5 | J29: 0.5 | K29: 0 | M29: =SUM(I29:L29)*H29 -> 0.5 | N29: 1
A30: 2. Capacitar 12.150 estudiantes en programas de educación informal o continuada. | B30: Subdirector de Capacitación y Entrenamiento | C30: Capacitar en cursos de nivel básico, intermedio, especialistas y otras capacitaciones, mínimo 12.150 estudiantes. Primer trimestre 15%, segundo trimestre 25%, tercer trimestre 30%, cuarto trimestre 30%. | D30: Karla Mayorga | E30: Informe de Capacitación y Resultados | F30: 45658 | G30: 46022 | H30: 0.5 | I30: 0.15 | J30: 0.25 | K30: 0.3 | M30: =SUM(I30:L30)*H30 -> 0.35 | N30: 1 | O30: 0.15 | Q30: =(M31+M30)*O30 -> 0.0825 | R30: 510000000 | S30: No. Estudiantes capacitados / No. Estudiantes programados
C31: Capacitar los grupos de busqueda y rescate de respuesta organizados y requeridos por la entidad. | H31: 0.5 | I31: 0.15 | J31: 0.25 | K31: 0 | M31: =SUM(I31:L31)*H31 -> 0.2 | N31: 1
A32: 3. Formar y graduar 140 estudiantes en los programas de ETDH de la entidad. | B32: Subdirector de Capacitación y Entrenamiento | C32: Formar y graduar 140 estudiantes en el nível de ETDH de los programas acreditasdos en la tres Escuelas de la entidad. | D32: Karla Mayorga | E32: Informe de Formación y Graduación de Estudiantes | F32: 45717 | G32: 46006 | H32: 1 | I32: 0 | J32: 0.5 | K32: 0 | M32: =SUM(I32:L32)*H32 -> 0.5 | O32: 0.15 | Q32: =M32*O32 -> 0.075 | R32: 10000000 | S32: No. Estudiantes capacitados / No. Estudiantes programados
A33: 4. Implementar el plan de mejoramiento y adelantar una auditoría interna para la certificación de calidad ISO9001 y/o certificación de calidad académica NTC5555-5581 | B33: Subdirector de Capacitación y Entrenamiento | C33: Presentar una auditoría interna de calidad ISO9001 y/o certificación de calidad académica | D33: Karla Mayorga | E33: PRIMER PERIODO: Ficha tecnica, cotizacion y contrato SEGUNDO PERIODO: Informe de auditoría | F33: 45748 | G33: 45945 | H33: 1 | I33: 0 | J33: 0 | K33: 0.5 | M33: =SUM(I33:L33)*H33 -> 0.5 | O33: 0.14 | Q33: =(M33)*O33 -> 0.07 | R33: 10000000 | S33: Acciones del plan mejoramiento ejecutadas / Acciones del plan de mejoramiento programado
A34: 5. Implementar el plan de mejoramiento y presentar la auditoría de certificación de calidad NTC 5555 y 5581. | B34: Subdirector de Capacitación y Entrenamiento | C34: Implementar el plan de mejoramiento y presentar la auditoría de certificación de calidad NTC 5555 y 5581 | D34: Karla Mayorga | E34: Avance plan de mejoramiento de Auditoría Interna y Ajustes para Certificación | F34: 45748 | G34: 45945 | H34: 1 | I34: 0 | J34: 0.5 | K34: 0.5 | M34: =SUM(I34:L34)*H34 -> 1 | O34: 0.14 | Q34: =(M34)*O34 -> 0.14 | R34: 3706 | S34: Acciones del plan mejoramiento ejecutadas / Acciones del plan de mejoramiento programado
A35: 6. Capacitar 400 miembros de las comunidades en brigadas comunitarias y primera respuesta mediante convenios o contratos de servicios de capacitación | B35: Subdirector de Capacitación y Entrenamiento | C35: Gestionar y adelantar mínimo un programa de capacitación a las comunidades por parte de cada una de las Escuelas. | D35: Karla Mayorga | E35: Informe de Capacitacion Comunitaria y planillas de asistencia. | F35: 45778 | G35: 46006 | H35: 1 | I35: 0 | J35: 0 | K35: 0.5 | M35: =SUM(I35:L35)*H35 -> 0.5 | O35: 0.14 | Q35: =M35*O35 -> 0.07 | S35: No. de personas de la comunidad capacitadas / No. de personas programadas
A36: 7. Gestionar y ejecutar un programa de capacitación con una organización del orden internacional. | B36: Subdirector de Capacitación y Entrenamiento | C36: Gestionar y desarrollar un programa de educación anual de orden internacional para transferencia de conocimiento y experiencias. | D36: Karla Mayorga | E36: Memorando de las instrucciones impartidas desde la Direccion General o subdireccion de capacitacion, listado de los participantes y fotografias del curso. | F36: 45809 | G36: 46006 | H36: 1 | I36: 0 | J36: 0 | K36: 0 | L36: 1 | M36: =SUM(I36:L36)*H36 -> 1 | O36: 0.14 | Q36: =M36*O36 -> 0.14 | S36: Programa internacional anual ejecutado / Programa internacional anual programado
A37: CUMPLIMIENTO DEL OBJETIVO | P37: =P28 -> 0.7175
A39: OBJETIVO ESTRATÉGICO 3 | E39: Diseñar y ejecutar acciones enfocadas a la asesoría, fortalecimiento y control de las Organizaciones de Defensa Civil
A40: METAS | B40: RESPONSABLE | C40: ACTIVIDADES PROGRAMADAS POR CADA META | D40: RESPONSABLE | E40: PRODUCTO DE CADA ACTIVIDAD | F40: PLAZO DE CADA ACTIVIDAD | H40: PONDERACIÓN DE CADA ACTIVIDAD | I40: AVANCE DE LAS ACTIVIDADES I TRIM 2025 | J40: AVANCE DE LAS ACTIVIDADES II TRIM 2025 | K40: AVANCE DE LAS ACTIVIDADES III TRIM 2025 | L40: AVANCE DE LAS ACTIVIDADES IV TRIM 2025 | M40: AVANCE PONDERADO | N40: % CUMPLIMIENTO | O40: PONDERACIÓN | P40: AVANCE PONDERADO | Q40: CUMPLIMIENTO | R40: RECURSOS $ NECESARIOS (millones de pesos) | S40: INDICADOR DE CUMPLIMIENTO
B41: DE CADA META | D41: DE CADA ACTIVIDAD | F41: FECHA INICIAL | G41: FECHA FINAL | I41: Fecha Revisión: 31/03/2025 | J41: Fecha Revisión: 30-06-2025 | K41: Fecha Revisión: 30-09-2025 | L41: Fecha Revisión: 31/12-01-2025 | M41: ACTIVIDAD | N41: ATIVIDADES | O41: DE LAS METAS | P41: META | Q41: DE LA META | R41: PARA EJECUTAR LA META
A42: Asesorar a las Direcciones Seccionales o sus equivalentes con relación a los trámites de personería jurídica, representación legal, suspensiones, cancelaciones, fusiones y liquidaciones de Juntas de Defensa Civil respecto del cumplimiento de requisitos del Reglamento del voluntario vigente | B42: Jefe Oficina Asesora Jurídica | C42: Asesorar a las Direcciones Seccionales o sus equivalentes con relación a los trámites de personería jurídica, representación legal, suspensiones, cancelaciones, fusiones y liquidaciones de Juntas de Defensa Civil respecto del cumplimiento de requisitos del Reglamento del voluntario vigente. | D42: Jefe Oficina Asesora Jurìdica | E42: Base de datos con el seguimiento a los trámites de asesoría jurídica | F42: 45658 | G42: 46021 | H42: 0.5 | I42: 0 | J42: 0.5 | K42: 0.25 | M42: =SUM(I42:L42)*H42 -> 0.375 | O42: 0.5 | P42: =+Q42+Q44 -> 0.75 | Q42: =(M42+M43)*O42 -> 0.375 | R42: 65 | S42: (Número de Organizaciones intervenidas / 50% del total de Organizaciones)*100
C43: Diseñar a apoyar la capacitación a los dignatarios de las Juntas de Defensa Civil, y voluntarios coordinadores de Comités de Defensa Civil en las disposiciones del nuevo Reglamento del Voluntario y Organizaciones de Defensa Civil, para que las mismas estén debidamente organizadas, formalizadas y actualizadas. | D43: Jefe Oficina Asesora Jurìdica | E43: Bases datos de las organizaciones de defensa civil que requieren formalización y actualización | F43: 45717 | G43: 46022 | H43: 0.5 | I43: 0 | J43: 0.5 | K43: 0.25 | M43: =SUM(I43:L43)*H43 -> 0.375
A44: Lograr equipar 60 grupos de rescate en los territorios asociados a las organizaciones de defensa civil | B44: Subdirección Operativa | C44: Proveer el equipamiento necesario para dotar 60 grupos de rescate (para un acumulado de 180 grupos) en diferentes territorios, asegurando que cuenten con las capacidades necesarias para la respuesta eficaz y oportuna ante situaciones de emergencia. | D44: Subdirector Operativo | E44: Informe con lineamientos consolidados de equipamiento básico para las organizaciones | F44: 45658 | G44: 46022 | H44: 1 | I44: 0 | J44: 0.5 | K44: 0.25 | M44: =SUM(I44:L44)*H44 -> 0.75 | O44: 0.5 | Q44: =(M44)*O44 -> 0.375 | S44: (Número de Organizaciones dotadas / 50% del total de las Organizaciones)*100
A45: CUMPLIMIENTO DEL OBJETIVO | P45: =P42 -> 0.75
A47: OBJETIVO ESTRATÉGICO 4 | E47: Fortalecer la estrategia de respuesta operativa y tecnológica frente a las emergencias y desastres a nivel nacional y territorial
A48: METAS | B48: RESPONSABLE | C48: ACTIVIDADES PROGRAMADAS POR CADA META | D48: RESPONSABLE | E48: PRODUCTO DE CADA ACTIVIDAD | F48: PLAZO DE CADA ACTIVIDAD | H48: PONDERACIÓN DE CADA ACTIVIDAD | I48: AVANCE DE LAS ACTIVIDADES I TRIM 2025 | J48: AVANCE DE LAS ACTIVIDADES II TRIM 2025 | K48: AVANCE DE LAS ACTIVIDADES III TRIM 2025 | L48: AVANCE DE LAS ACTIVIDADES IV TRIM 2025 | M48: AVANCE PONDERADO | N48: % CUMPLIMIENTO | O48: PONDERACIÓN | P48: AVANCE PONDERADO | Q48: CUMPLIMIENTO | R48: RECURSOS $ NECESARIOS (millones de pesos) | S48: INDICADOR DE CUMPLIMIENTO
B49: DE CADA META | D49: DE CADA ACTIVIDAD | F49: FECHA INICIAL | G49: FECHA FINAL | I49: Fecha Revisión: 31/03/2025 | J49: Fecha Revisión: 30-06-2025 | K49: Fecha Revisión: 30-09-2025 | L49: Fecha Revisión: 31/12-01-2025 | M49: ACTIVIDAD | N49: ATIVIDADES | O49: DE LAS METAS | P49: META | Q49: DE LA META | R49: PARA EJECUTAR LA META
A50: Implementar el 25% de los grupos de rescate establecidos en los lineamientos operativos | B50: Subdirector Operativo | C50: Actualizar el anexo E "Organización mínima nacional" de la Directiva 2224002 de 2025:"Lineamientos Grupos de Rescate DCC". | D50: Subdirector Operativo | E50: Directiva transitoria 2025 para e ejecricio de los Grupos USAR | F50: 45658 | G50: 45747 | H50: 0.5 | I50: 0.25 | J50: 0.25 | K50: 0.25 | M50: =SUM(I50:L50)*H50 -> 0.375 | O50: 1 | P50: =Q50 -> 0.75 | Q50: =(M51+M50)*O50 -> 0.75 | R50: 6304 | S50: (Numero de grupos de rescate organizados / Número de grupos de rescate proyectados)*100
C51: Efectuar seguimiento trimestral a la implementación del Anexo "Organización mínima nacional" de la Directiva 2224002 de 2025:"Lineamientos Grupos de Rescate DCC". | D51: Subdirector Operativo | E51: Informe de seguimiento trimestral de la implementacion de la directiva 2224002 de 2025:"Lineamientos Grupos de Rescate DCC". | F51: 45658 | G51: 46022 | H51: 0.5 | I51: 0.25 | J51: 0.25 | K51: 0.25 | M51: =SUM(I51:L51)*H51 -> 0.375
A52: CUMPLIMIENTO DEL OBJETIVO | P52: =SUM(Q50) -> 0.75
A54: OBJETIVO ESTRATÉGICO 5 | E54: Rediseñar e implementar un modelo integral de gestión del voluntariado
A55: METAS | B55: RESPONSABLE | C55: ACTIVIDADES PROGRAMADAS POR CADA META | D55: RESPONSABLE | E55: PRODUCTO DE CADA ACTIVIDAD | F55: PLAZO DE CADA ACTIVIDAD | H55: PONDERACIÓN DE CADA ACTIVIDAD | I55: AVANCE DE LAS ACTIVIDADES I TRIM 2025 | J55: AVANCE DE LAS ACTIVIDADES II TRIM 2025 | K55: AVANCE DE LAS ACTIVIDADES III TRIM 2025 | L55: AVANCE DE LAS ACTIVIDADES IV TRIM 2025 | M55: AVANCE PONDERADO | N55: % CUMPLIMIENTO | O55: PONDERACIÓN | P55: AVANCE PONDERADO | Q55: CUMPLIMIENTO | R55: RECURSOS $ NECESARIOS (millones de pesos) | S55: INDICADOR DE CUMPLIMIENTO
B56: DE CADA META | D56: DE CADA ACTIVIDAD | F56: FECHA INICIAL | G56: FECHA FINAL | I56: Fecha Revisión: 31/03/2025 | J56: Fecha Revisión: 30-06-2025 | K56: Fecha Revisión: 30-09-2025 | L56: Fecha Revisión: 31/12-01-2025 | M56: ACTIVIDAD | N56: ATIVIDADES | O56: DE LAS METAS | P56: META | Q56: DE LA META | R56: PARA EJECUTAR LA META
A57: Implementación en prueba piloto, ajuste y aprobación de la Política del modelo integral de gestión del voluntariado, generando un proceso de retroalimentacion frente a su desarrolo y cumplimiento y de ser necesario reorientando su enfoque y estrategias. | B57: Subdirector Operativo | C57: Socializar la politica con los grupos representativos de voluntarios y funcionarios de la entidad . | D57: Subdirector Operativo | E57: Informe de diagnóstico por parte del comité para el diseño del modelo de gestión integral del voluntariado | F57: 45677 | G57: 45838 | H57: 0.3333 | I57: 0.25 | J57: 0.25 | K57: 0.5 | M57: =SUM(I57:L57)*H57 -> 0.3333 | O57: 1 | P57: =Q57 -> 0.3333 | Q57: =SUM(M57:M59)*O57 -> 0.3333 | R57: 4055 | S57: (Número total de voluntarios satisfechos en cada vigencia / número total de voluntarios encuestados en la vigencia)*100
C58: Diseñar e implementar un instrumento que permita efectuar un análisis sobre la pertinencia de las estrategias de la política que conlleve a analizar algún cambio. | E58: Informe de resultados de la encuesta de pertinencia y ejecución de la política integral | F58: 45901 | G58: 45960 | H58: 0.3333 | I58: 0 | J58: 0 | M58: =SUM(I58:L58)*H58 -> 0
C59: Ajustar a la política de Gestión del Voluntariado acorde a los resultados obtenidos en la implementación del instrumento aplicado. | E59: Polìtica de Gestión del Voluntariado | F59: 45931 | G59: 46021 | H59: 0.3333 | I59: 0 | J59: 0 | M59: =SUM(I59:L59)*H59 -> 0
A60: CUMPLIMIENTO DEL OBJETIVO | P60: =Q57 -> 0.3333
A62: OBJETIVO ESTRATÉGICO 6 | E62: Articular recursos y capacidades en el desarrollo de las políticas sociales y ambientales
A63: METAS | B63: RESPONSABLE | C63: ACTIVIDADES PROGRAMADAS POR CADA META | D63: RESPONSABLE | E63: PRODUCTO DE CADA ACTIVIDAD | F63: PLAZO DE CADA ACTIVIDAD | H63: PONDERACIÓN DE CADA ACTIVIDAD | I63: AVANCE DE LAS ACTIVIDADES I TRIM 2025 | J63: AVANCE DE LAS ACTIVIDADES II TRIM 2025 | K63: AVANCE DE LAS ACTIVIDADES III TRIM 2025 | L63: AVANCE DE LAS ACTIVIDADES IV TRIM 2025 | M63: AVANCE PONDERADO | N63: % CUMPLIMIENTO | O63: PONDERACIÓN | P63: AVANCE PONDERADO | Q63: CUMPLIMIENTO | R63: RECURSOS $ NECESARIOS (millones de pesos) | S63: INDICADOR DE CUMPLIMIENTO
B64: DE CADA META | D64: DE CADA ACTIVIDAD | F64: FECHA INICIAL | G64: FECHA FINAL | I64: Fecha Revisión: 31/03/2025 | J64: Fecha Revisión: 30-06-2025 | K64: Fecha Revisión: 30-09-2025 | L64: Fecha Revisión: 31/12-01-2025 | M64: ACTIVIDAD | N64: ATIVIDADES | O64: DE LAS METAS | P64: META | Q64: DE LA META | R64: PARA EJECUTAR LA META
A65: Ejecutar 5 proyectos con enfoque social y ambiental a través de las Seccionales | B65: Subdirector Operativo | C65: Elaborar el concepto de viabilidad operativa de cada proyecto. | D65: Subdirector Operativo | E65: Concepto de viabilidad de los proyectos | F65: 45659 | G65: 46021 | H65: 0.5 | I65: 0.25 | J65: 0.25 | K65: 0.25 | M65: =SUM(I65:L65)*H65 -> 0.375 | N65: 1 | O65: 0.34 | P65: =Q65+Q67+Q70 -> 0.729276 | Q65: =(M65+M66)*O65 -> 0.255 | R65: 7703 | S65: (Número de familias graduadas / Número de familias programadas)*100
C66: Hacer seguimiento a los proyectos en ejecución durante la vigencia 2025, por medio de la recopilación y analisis de los productos de cada proyecto. | D66: Subdirector Operativo | E66: Informe final de seguimiento y avance, del cumplimiento del programa de Planes Familiares de Emergencia. | F66: 45931 | G66: 46021 | H66: 0.5 | I66: 0.25 | J66: 0.25 | K66: 0.25 | M66: =SUM(I66:L66)*H66 -> 0.375 | N66: 1
A67: Capacitar 9.500 familias en el marco del Plan Familiar de Emergencias | B67: Subdirector Operativo | C67: Planificar la ejecución del programa, por parte de las seccionales y oficinas. | D67: Subdirector Operativo | E67: Informe de planificación, según indicaciones de la Subdirección Operativa y Grupo de Conocimiento y Reducción. | F67: 45659 | G67: 46021 | H67: 0.3333 | I67: 0.25 | J67: 0.25 | K67: 0.25 | M67: =SUM(I67:L67)*H67 -> 0.249975 | N67: 1 | O67: 0.33 | Q67: =SUM(M67:M69)*O67 -> 0.247401 | S67: No. de proyectos ejecutados / No. de Proyectos programados
C68: Realizar la capacitación del Plan Familiar de Emergencias. | D68: Subdirector Operativo | E68: Informe de capacitación con planilla | F68: 45684 | G68: 45703 | H68: 0.333 | I68: 0.25 | J68: 0.25 | K68: 0.25 | M68: =SUM(I68:L68)*H68 -> 0.24975 | N68: 1
C69: Hacer seguimiento trimestral a los avances de cumplimiento por parte de las seccionales y oficinas. | D69: Subdirector Operativo | E69: Anteproyecto entregado y sustentado | F69: 45659 | G69: 45991 | H69: 0.3333 | I69: 0.25 | J69: 0.25 | K69: 0.25 | M69: =SUM(I69:L69)*H69 -> 0.249975 | N69: 1
A70: Desarrollar acciones de mitigación de las emisiones de gases de efecto invernadero (GEI) que permitan la reducción del 20% de la huella de carbono institucional | B70: Subdirector Operativo | C70: Elaborar la directiva Plan de acción anual del PIGA para la vigencia 2025 | D70: Subdirector Operativo | E70: Directiva PIGA | F70: 45659 | G70: 45687 | H70: 0.25 | I70: 1 | J70: 0 | K70: 0 | M70: =SUM(I70:L70)*H70 -> 0.25 | N70: 1 | O70: 0.33 | Q70: =SUM(M70:M73)*O70 -> 0.226875 | S70: (Reducción de huella de carbono lograda / Huella de carbono generada)*100
C71: Socializar la directiva Plan de acción anual del PIGA para la vigencia 2025 | D71: Subdirector Operativo | E71: Presentación para la socialización del PAA PIGA 2025 y la lista de asistencia correspondiente. | F71: 45689 | G71: 45716 | H71: 0.25 | I71: 1 | J71: 0 | K71: 0 | M71: =SUM(I71:L71)*H71 -> 0.25 | N71: 1
C72: Seguimiento trimestral de la emisión de CO2eq+ | D72: Subdirector Operativo | E72: Seguimiento trimestral de la emisión de CO2eq+ | F72: 45659 | G72: 46021 | H72: 0.25 | I72: 0.25 | J72: 0.25 | K72: 0.25 | M72: =SUM(I72:L72)*H72 -> 0.1875 | N72: 1
C73: Cálculo de la captura CO2eq+ a través de la campaña del Bosque Naranja | D73: Subdirector Operativo | E73: Informe anual de inventario de captura CO2eq+ de la Entidad | F73: 45931 | G73: 46021 | H73: 0.25 | I73: 0 | J73: 0 | K73: 0 | M73: =SUM(I73:L73)*H73 -> 0 | N73: 0 | AH73: {=+AH73:BB76} -> 0
A74: CUMPLIMIENTO DEL OBJETIVO | P74: =P65 -> 0.729276
A76: OBJETIVO ESTRATÉGICO 7 | E76: Implementar un modelo de optimización de gastos
A77: METAS | B77: RESPONSABLE | C77: ACTIVIDADES PROGRAMADAS POR CADA META | D77: RESPONSABLE | E77: PRODUCTO DE CADA ACTIVIDAD | F77: PLAZO DE CADA ACTIVIDAD | H77: PONDERACIÓN DE CADA ACTIVIDAD | I77: AVANCE DE LAS ACTIVIDADES I TRIM 2025 | J77: AVANCE DE LAS ACTIVIDADES II TRIM 2025 | K77: AVANCE DE LAS ACTIVIDADES III TRIM 2025 | L77: AVANCE DE LAS ACTIVIDADES IV TRIM 2025 | M77: AVANCE PONDERADO | N77: % CUMPLIMIENTO | O77: PONDERACIÓN | P77: AVANCE PONDERADO | Q77: CUMPLIMIENTO | R77: RECURSOS $ NECESARIOS (millones de pesos) | S77: INDICADOR DE CUMPLIMIENTO
B78: DE CADA META | D78: DE CADA ACTIVIDAD | F78: FECHA INICIAL | G78: FECHA FINAL | I78: Fecha Revisión: 31/03/2025 | J78: Fecha Revisión: 30-06-2025 | K78: Fecha Revisión: 30-09-2025 | L78: Fecha Revisión: 31/12-01-2025 | M78: ACTIVIDAD | N78: ATIVIDADES | O78: DE LAS METAS | P78: META | Q78: DE LA META | R78: PARA EJECUTAR LA META
A79: Reducir el 2% del gasto de adquisición de bienes y servicios definidos en el plan de austeridad en el cuatrienio asociado a las variables del mercado | B79: Subdirector Administrativo y Financiero | C79: Elaborar e implementar el plan de austeridad del gasto de la Entidad, de acuerdo con las metas del Ministerio de Hacienda y Crédito Público - MHCP. | D79: Subdirector Administrativo y Financiero | E79: Plan de Austeridad Seguimiento al plan Trimestral | F79: 45658 | G79: 46022 | H79: 1 | I79: 0.25 | J79: 0.25 | K79: 0.25 | M79: =SUM(I79:L79)*H79 -> 0.75 | N79: 1 | O79: 1 | P79: =Q79 -> 0.75 | Q79: =M79*O79 -> 0.75 | R79: 2090 | S79: ((Presupuesto de gastos definidos en el plan de austeridad obligado en T / Presupuesto de gastos definidos en el plan de austeridad obligado en T-1) -1)*100
A80: CUMPLIMIENTO DEL OBJETIVO | P80: =Q79 -> 0.75
A82: OBJETIVO ESTRATÉGICO 8 | E82: Mejorar el Índice de Desempeño Institucional (IDI)
A83: METAS | B83: RESPONSABLE | C83: ACTIVIDADES PROGRAMADAS POR CADA META | D83: RESPONSABLE | E83: PRODUCTO DE CADA ACTIVIDAD | F83: PLAZO DE CADA ACTIVIDAD | H83: PONDERACIÓN DE CADA ACTIVIDAD | I83: AVANCE DE LAS ACTIVIDADES I TRIM 2025 | J83: AVANCE DE LAS ACTIVIDADES II TRIM 2025 | K83: AVANCE DE LAS ACTIVIDADES III TRIM 2025 | L83: AVANCE DE LAS ACTIVIDADES IV TRIM 2025 | M83: AVANCE PONDERADO | N83: % CUMPLIMIENTO | O83: PONDERACIÓN | P83: AVANCE PONDERADO | Q83: CUMPLIMIENTO | R83: RECURSOS $ NECESARIOS (millones de pesos) | S83: INDICADOR DE CUMPLIMIENTO
B84: DE CADA META | D84: DE CADA ACTIVIDAD | F84: FECHA INICIAL | G84: FECHA FINAL | I84: Fecha Revisión: 31/03/2025 | J84: Fecha Revisión: 30-06-2025 | K84: Fecha Revisión: 30-09-2025 | L84: Fecha Revisión: 31/12-01-2025 | M84: ACTIVIDAD | N84: ATIVIDADES | O84: DE LAS METAS | P84: META | Q84: DE LA META | R84: PARA EJECUTAR LA META
A85: Fortalecer el sistema de gestión de documentos electrónico de archivo | B85: Jefe Grupo Orientación Ciudadana y Gestión Documental | C85: Realizar la Intervención documental correspondiente a 5000 cajas x 200. | D85: Jefe Grupo Orientación Ciudadana y Gestión Documental | E85: Informe trimestral de cada Plan | F85: 45689 | G85: 46021 | H85: 0.3333 | I85: 0.25 | J85: 0.25 | K85: 0.25 | M85: =SUM(I85:L85)*H85 -> 0.249975 | O85: 0.2 | P85: =Q85+Q88+Q91+Q92+Q95 -> 0.783285 | Q85: =SUM(M85:M87)*O85 -> 0.13332 | R85: 20169 | S85: % de evaluación de las políticas de gobierno y seguridad digital del FURAG
C86: Adquirir y parametrizar el sistema del gestor documental para la implementación del SGDEA. | E86: Software adquirido y parametrizado (SGDEA). | F86: 45689 | G86: 45868 | H86: 0.3333 | I86: 0.25 | J86: 0.25 | K86: 0.25 | M86: =SUM(I86:L86)*H86 -> 0.249975
C87: Realizar la implementación del Sistema de Gestión Documental electrónico de archivo SGDEA. | E87: Sistema de Gestión documental implementado (Informe de implementación) | F87: 45839 | G87: 45991 | H87: 0.3333 | I87: 0 | J87: 0 | K87: 0.5 | M87: =SUM(I87:L87)*H87 -> 0.16665
A88: Obtener una evaluación igual o superior al 86% en la implementación de las políticas de Gobierno Digital. | B88: Jefe Oficina Asesora de las TIC | C88: Implementar y coordinar las acciones dispuestas en las políticas de Gobierno Digital. | D88: Jefe Oficina Asesora de las Tic | E88: Un (1) documento con las cargas de trabajo de las seccionales. | F88: 45659 | G88: 46021 | H88: 0.3333 | I88: 0.25 | J88: 0.25 | K88: 0.25 | M88: =SUM(I88:L88)*H88 -> 0.249975 | O88: 0.2 | Q88: =SUM(M88:M90)*O88 -> 0.149985 | S88: No. de fases ejecutadas / No. de fases programadas
C89: Actualizar y documentar de las políticas digitales y de seguridad informática de la entidad. | D89: Jefe Oficina Asesora de las Tic | E89: Políticas actualizadas | F89: 45659 | G89: 46021 | H89: 0.3333 | I89: 0.25 | J89: 0.25 | K89: 0.25 | M89: =SUM(I89:L89)*H89 -> 0.249975
C90: Elaboración, implementación y seguimiento de los planes de la Oficina de las TIC (Plan Estratégico de Tecnologías de la Información - PETI, Plan de Seguridad y Privacidad de la información, Plan de Tratamiento de Riesgos de Seguridad de la Información). | D90: Jefe Oficina Asesora de las Tic | E90: Planes elaborados y seguimiento trimestral | F90: 45658 | G90: 46021 | H90: 0.3333 | I90: 0.25 | J90: 0.25 | K90: 0.25 | M90: =SUM(I90:L90)*H90 -> 0.249975
A91: Atender y solucionar las observaciones que se formulen al estudio técnico del Rediseño Institucional - Formalización Laboral de la Defensa Civil Colombiana, presentado ante el Viceministerio del GSED, que permita la continuidad del trámite ante las instancias correspondientes. | B91: Jefe Oficina Asesora de Planeación/Jefe Grupo de Gestión del Talento Humano | C91: Ajustar el estudio técnico de Rediseño Institucional - Formalización Laboral de la entidad, de acuerdo a las observaciones presentadas por el Viceministario del GSED | D91: Jefe Oficina Asesora de Planeación | E91: Un (1) documento con el Estudio Técnico. | F91: 45659 | G91: 46021 | H91: 1 | I91: 0.5 | J91: 0.5 | K91: 0 | M91: =SUM(I91:L91)*H91 -> 1 | O91: 0.2 | Q91: =(M91)*O91 -> 0.2 | S91: Índice de Desempeño Institucional (IDI) obtenido / 88%
A92: Obtener un índice de desempeño institucional (IDI) mayor o igual al 90% al cierre del 2025 | B92: Jefe Oficina Asesora de Planeación/Responsables de Políticas | C92: Realizar seguimiento al plan de acción de las recomendaciones presentadas por MIPG correspondiente a la vigencia 2025 | D92: Jefe Oficina Asesora de Planeación | E92: Matriz de Seguimiento a plan de trabajo MIPG | F92: 45659 | G92: 45746 | H92: 0.3333 | I92: 0.5 | J92: 0.5 | K92: 0 | L92: 0 | M92: =SUM(I92:L92)*H92 -> 0.3333 | O92: 0.2 | Q92: =(M92+M93+M94)*O92 -> 0.19998 | S92: No. de fases ejecutadas / No. de fases programadas
C93: Apoyar a las dependencias en el diligenciamiento del formulario FURAG que evalúa la gestión correspondiente a la vigencia 2025. | D93: Jefe Oficina Asesora de Planeación | E93: Lista de asistencia | F93: 45748 | G93: 45838 | H93: 0.3333 | I93: 1 | J93: 0 | K93: 0 | M93: =SUM(I93:L93)*H93 -> 0.3333
C94: Elaborar un informe de resultados, de acuerdo con la calificación del Indice de Desempeño Institucional y presentarlo ante el Comité Institucional de Gestión y Desempeño | D94: Jefe Oficina Asesora de Planeación | E94: 1 informe elaborado y acta de Comité Institucional de Gestión y Desempeño | F94: 45839 | G94: 45930 | H94: 0.3333 | I94: 0 | J94: 0 | K94: 1 | M94: =SUM(I94:L94)*H94 -> 0.3333
A95: Atender y solucionar las observaciones que se formulen al borrador de proyecto de Ley de la DCC presentado ante el Viceministerio del GSED, que permita la continuidad del trámite ante las instancias correspondientes. | B95: Oficina Asesora Jurídica | C95: Adelantar sesiones del Comité para la elaboración del proyecto de Ley de la DCC, donde se presenten y solucionen las observaciones. | D95: Jefe Oficina Asesora Jurídica | E95: Texto del articulado del proyecto de ley de Defensa Civil Colombiana | F95: 45658 | G95: 46022 | H95: 1 | I95: 0.25 | J95: 0.25 | K95: 0 | M95: =SUM(I95:L95)*H95 -> 0.5 | O95: 0.2 | Q95: =(M95)*O95 -> 0.1 | S95: No. de fases ejecutadas / No. de fases programadas
A96: CUMPLIMIENTO DEL OBJETIVO | P96: =P85 -> 0.783285
J98: CUMPLIMIENTO 2025 TRIM 3 | Q98: =AVERAGE(P23,P37,P45,P52,P60,P74,P80,P96) -> 0.67979513
I117: 1
I118: 0.7

Sheet Hoja2
M28: 71
M29: 81

Sheet Hoja1
A1: No. | B1: OBJETIVO ESTRATÉGICO | C1: AVANCE CUARTO TRIMESTRE
A2: 1 | B2: Incrementar la favorabilidad de la Defensa Civil Colombiana frente a los diferentes grupos de valor | C2: ='Plan Acción 2025 TRIM2'!P23 -> 0.625
A3: 2 | B3: Desarrollar programas de educación de la entidad con enfoque diferencial, territorial e innovador | C3: ='Plan Acción 2025 TRIM2'!P37 -> 0.7175
A4: 3 | B4: Diseñar y ejecutar acciones enfocadas a la asesoría, fortalecimiento y control de las Organizaciones de Defensa Civil | C4: ='Plan Acción 2025 TRIM2'!P45 -> 0.75
A5: 4 | B5: Fortalecer la estrategia de respuesta operativa y tecnológica frente a las emergencias y desastres a nivel nacional y territorial | C5: ='Plan Acción 2025 TRIM2'!P52 -> 0.75
A6: 5 | B6: Rediseñar e implementar un modelo integral de gestión del voluntariado | C6: ='Plan Acción 2025 TRIM2'!P60 -> 0.3333
A7: 6 | B7: Articular recursos y capacidades en el desarrollo de las políticas sociales y ambientales | C7: ='Plan Acción 2025 TRIM2'!P74 -> 0.729276
A8: 7 | B8: Implementar un modelo de optimización de gastos | C8: ='Plan Acción 2025 TRIM2'!P80 -> 0.75
A9: 8 | B9: Mejorar el Índice de Desempeño Institucional (IDI) | C9: ='Plan Acción 2025 TRIM2'!P96 -> 0.783285
